BEGIN:VCALENDAR
VERSION:2.0
PRODID:-//CiDistribution - ECPv6.15.20//NONSGML v1.0//EN
CALSCALE:GREGORIAN
METHOD:PUBLISH
X-WR-CALNAME:CiDistribution
X-ORIGINAL-URL:https://www.cidistribution.com
X-WR-CALDESC:Events for CiDistribution
REFRESH-INTERVAL;VALUE=DURATION:PT1H
X-Robots-Tag:noindex
X-PUBLISHED-TTL:PT1H
BEGIN:VTIMEZONE
TZID:Europe/London
BEGIN:DAYLIGHT
TZOFFSETFROM:+0000
TZOFFSETTO:+0100
TZNAME:BST
DTSTART:20250330T010000
END:DAYLIGHT
BEGIN:STANDARD
TZOFFSETFROM:+0100
TZOFFSETTO:+0000
TZNAME:GMT
DTSTART:20251026T010000
END:STANDARD
BEGIN:DAYLIGHT
TZOFFSETFROM:+0000
TZOFFSETTO:+0100
TZNAME:BST
DTSTART:20260329T010000
END:DAYLIGHT
BEGIN:STANDARD
TZOFFSETFROM:+0100
TZOFFSETTO:+0000
TZNAME:GMT
DTSTART:20261025T010000
END:STANDARD
BEGIN:DAYLIGHT
TZOFFSETFROM:+0000
TZOFFSETTO:+0100
TZNAME:BST
DTSTART:20270328T010000
END:DAYLIGHT
BEGIN:STANDARD
TZOFFSETFROM:+0100
TZOFFSETTO:+0000
TZNAME:GMT
DTSTART:20271031T010000
END:STANDARD
END:VTIMEZONE
BEGIN:VEVENT
DTSTART;TZID=Europe/London:20260213T080000
DTEND;TZID=Europe/London:20260213T170000
DTSTAMP:20260421T224147
CREATED:20251125T145246Z
LAST-MODIFIED:20251125T145410Z
UID:4324-1770969600-1771002000@www.cidistribution.com
SUMMARY:Ci Distribution Vendor Training Day
DESCRIPTION:Hands-on training sessions covering the latest additions to Ci Distribution’s product portfolio.
URL:https://www.cidistribution.com/event/ci-distribution-vendor-training-day-2/
ATTACH;FMTTYPE=image/png:https://www.cidistribution.com/wp-content/uploads/2025/11/getac_laptops.png
END:VEVENT
BEGIN:VEVENT
DTSTART;TZID=Europe/London:20260123T080000
DTEND;TZID=Europe/London:20260123T170000
DTSTAMP:20260421T224147
CREATED:20251125T130529Z
LAST-MODIFIED:20251125T145525Z
UID:4254-1769155200-1769187600@www.cidistribution.com
SUMMARY:Channel Networking Breakfast
DESCRIPTION:A morning networking meetup for resellers\, vendor representatives\, and Ci Distribution account managers.
URL:https://www.cidistribution.com/event/channel-networking-breakfast/
ATTACH;FMTTYPE=image/png:https://www.cidistribution.com/wp-content/uploads/2025/11/1612348895banner-thumbnail-02-02.png
END:VEVENT
END:VCALENDAR